{
 "currentVersion": 10.91,
 "serviceDescription": "cardinal map",
 "mapName": "Layers",
 "description": "",
 "copyrightText": "",
 "supportsDynamicLayers": true,
 "layers": [
  {
   "id": 0,
   "name": "Measure_Countries_Q8_Graphics_Optimized",
   "parentLayerId": -1,
   "defaultVisibility": true,
   "subLayerIds": null,
   "minScale": 0,
   "maxScale": 0,
   "type": "Feature Layer",
   "geometryType": "esriGeometryPolygon"
  },
  {
   "id": 1,
   "name": "Admin0_Polygons_SSIB_Q8",
   "parentLayerId": -1,
   "defaultVisibility": false,
   "subLayerIds": null,
   "minScale": 0,
   "maxScale": 0,
   "type": "Feature Layer",
   "geometryType": "esriGeometryPolygon"
  },
  {
   "id": 2,
   "name": "Admin0_Polygons_SSIB",
   "parentLayerId": -1,
   "defaultVisibility": false,
   "subLayerIds": null,
   "minScale": 0,
   "maxScale": 0,
   "type": "Feature Layer",
   "geometryType": "esriGeometryPolygon"
  }
 ],
 "tables": [],
 "spatialReference": {
  "wkid": 4326,
  "latestWkid": 4326
 },
 "singleFusedMapCache": true,
 "tileInfo": {
  "rows": 256,
  "cols": 256,
  "dpi": 96,
  "format": "PNG",
  "compressionQuality": 0,
  "origin": {
   "x": -400,
   "y": 399.9999999999998
  },
  "spatialReference": {
   "wkid": 4326,
   "latestWkid": 4326
  },
  "lods": [
   {
    "level": 0,
    "resolution": 0.5948652514575701,
    "scale": 250000000
   },
   {
    "level": 1,
    "resolution": 0.29743262572878504,
    "scale": 125000000
   },
   {
    "level": 2,
    "resolution": 0.15228550437313793,
    "scale": 64000000
   },
   {
    "level": 3,
    "resolution": 0.07614275218656896,
    "scale": 32000000
   },
   {
    "level": 4,
    "resolution": 0.03807137609328448,
    "scale": 16000000
   },
   {
    "level": 5,
    "resolution": 0.01903568804664224,
    "scale": 8000000
   },
   {
    "level": 6,
    "resolution": 0.00951784402332112,
    "scale": 4000000
   }
  ]
 },
 "initialExtent": {
  "xmin": -77.35903459609689,
  "ymin": -10.907003167055446,
  "xmax": 118.64906575917242,
  "ymax": 47.092358850057636,
  "spatialReference": {
   "wkid": 4326,
   "latestWkid": 4326
  }
 },
 "fullExtent": {
  "xmin": -179.99998854118684,
  "ymin": -88.99999992199992,
  "xmax": 179.99998854118684,
  "ymax": 83.63340000001068,
  "spatialReference": {
   "wkid": 4326,
   "latestWkid": 4326
  }
 },
 "minScale": 250000000,
 "maxScale": 4000000,
 "units": "esriDecimalDegrees",
 "supportedImageFormatTypes": "PNG32,PNG24,PNG,JPG,DIB,TIFF,EMF,PS,PDF,GIF,SVG,SVGZ,BMP",
 "documentInfo": {
  "Title": "",
  "Author": "",
  "Comments": "cardinal map",
  "Subject": "cmaptest",
  "Category": "",
  "AntialiasingMode": "None",
  "TextAntialiasingMode": "Force",
  "Keywords": "cardinal"
 },
 "capabilities": "Map,Query,Data",
 "supportedQueryFormats": "JSON, geoJSON",
 "exportTilesAllowed": false,
 "referenceScale": 0,
 "supportsDatumTransformation": true,
 "maxRecordCount": 50000,
 "maxImageHeight": 4096,
 "maxImageWidth": 4096,
 "supportedExtensions": "",
 "resampling": false
}
