View In:
ArcGIS JavaScript
ArcGIS Online Map Viewer
ArcGIS Earth
ArcMap
View Footprint In:
ArcGIS Online Map Viewer
Service Description: Development/2016_DHS_WS_SRCE_P_BAS_ET_POP_tif
Name: Development/2016_DHS_WS_SRCE_P_BAS_ET_POP_tif
Description:
Single Fused Map Cache: false
Extent:
XMin: 32.95833333333333
YMin: 3.3750000000000018
XMax: 47.99999999999999
YMax: 14.875
Spatial Reference: 4326
(4326)
Initial Extent:
XMin: 32.95833333333333
YMin: 3.3750000000000018
XMax: 47.99999999999999
YMax: 14.875
Spatial Reference: 4326
(4326)
Full Extent:
XMin: 32.95833333333333
YMin: 3.3750000000000018
XMax: 47.99999999999999
YMax: 14.875
Spatial Reference: 4326
(4326)
Pixel Size X: 0.04166666666666666
Pixel Size Y: 0.04166666666666666
Band Count: 1
Pixel Type: F32
RasterFunction Infos: {"rasterFunctionInfos": [{
"name": "None",
"description": "",
"help": ""
}]}
Mensuration Capabilities: Basic
Has Histograms: true
Has Colormap: false
Has Multi Dimensions : false
Rendering Rule:
Min Scale: 0
Max Scale: 0
Copyright Text:
Service Data Type: esriImageServiceDataTypeGeneric
Min Values: 0
Max Values: 55530.484375
Mean Values: 969.64840868652
Standard Deviation Values: 1858.3609613382
Object ID Field:
Fields:
None
Default Mosaic Method: Center
Allowed Mosaic Methods:
SortField:
SortValue: null
Mosaic Operator: First
Default Compression Quality: 75
Default Resampling Method: Bilinear
Max Record Count: null
Max Image Height: 4100
Max Image Width: 15000
Max Download Image Count: null
Max Mosaic Image Count: null
Allow Raster Function: true
Allow Copy: true
Allow Analysis: true
Allow Compute TiePoints: false
Supports Statistics: false
Supports Advanced Queries: false
Use StandardizedQueries: true
Raster Type Infos:
Name: Raster Dataset
Description: Supports all ArcGIS Raster Datasets
Help:
Has Raster Attribute Table: false
Edit Fields Info: null
Ownership Based AccessControl For Rasters: null
Child Resources:
Info
Histograms
Statistics
Key Properties
Legend
Raster Function Infos
Supported Operations:
Export Image
Identify
Measure
Compute Histograms
Compute Statistics Histograms
Get Samples
Compute Class Statistics
Query Boundary
Compute Pixel Location
Compute Angles
Validate
Project